BEGIN:VCALENDAR
VERSION:2.0
PRODID:Events Booking
BEGIN:VEVENT
UID:69e8a3168fedd
SUMMARY:Großmütterchen Hatz spielt
DESCRIPTION:
 
 
 
 Franziska Hatz - Akkordeon\, StimmeRichie Winkler -
  Saxofon\, Klarinette\, StimmeAndrea Fränzel - Bass\, Stimme
 Sasa Nikol
 ic - Schlagzeug
 Florian Pichelbauer&nbsp\;- Gesang\, Gitarre\, Klavier

  
 
 
 
LOCATION:Grieskai 74a\, 8020 Graz
DTSTART:20240110T190000Z
DTSTAMP:20260422T122942Z
ORGANIZER:MAILTO:tickets@tubes-music.at
GEO:47.062323;15.4334
X-APPLE-STRUCTURED-LOCATION;VALUE=URI;X-ADDRESS=Grieskai 74a\, 8020 Graz;X-
 APPLE-RADIUS=72;X-TITLE=Tube's:47.062323;15.4334
END:VEVENT
END:VCALENDAR