BEGIN:VCALENDAR
VERSION:2.0
PRODID:Events Booking
BEGIN:VEVENT
UID:69e9cbff0e974
SUMMARY:Großmütterchen Hatz spielt
DESCRIPTION:
 
 
 
 Andrea Fränzel - Bass\, StimmeFranziska Hatz - Akk
 ordeon\, StimmeRichie Winkler - Saxofon\, Klarinette\, StimmeSasa Nikolic 
 - Schlagzeug
 Berndt Luef - Vibraphon
 
 
 
 
LOCATION:Grieskai 74a\, 8020 Graz
DTSTART:20230111T190000Z
DTSTAMP:20260423T093631Z
ORGANIZER:MAILTO:tickets@tubes-music.at
GEO:47.062323;15.4334
X-APPLE-STRUCTURED-LOCATION;VALUE=URI;X-ADDRESS=Grieskai 74a\, 8020 Graz;X-
 APPLE-RADIUS=72;X-TITLE=Tube's:47.062323;15.4334
END:VEVENT
END:VCALENDAR