BEGIN:VCALENDAR
VERSION:2.0
PRODID:Events Booking
BEGIN:VEVENT
UID:69eaf1de8ab05
SUMMARY:Großmütterchen Hatz 'tanzt'
DESCRIPTION:Andrea Fränzel - Bass\, GesangFranziska Hatz - Akkordeon\, Ges
 ang
 Richie Winkler - Saxophon\, Klarinette\, Gesang
 Sasa Nikolic - Sch
 lagzeug
LOCATION:Grieskai 74a\, 8020 Graz
DTSTART:20220112T190000Z
DTSTAMP:20260424T063022Z
ORGANIZER:MAILTO:tickets@tubes-music.at
GEO:47.062323;15.4334
X-APPLE-STRUCTURED-LOCATION;VALUE=URI;X-ADDRESS=Grieskai 74a\, 8020 Graz;X-
 APPLE-RADIUS=72;X-TITLE=Tube's:47.062323;15.4334
END:VEVENT
END:VCALENDAR