BEGIN:VCALENDAR
VERSION:2.0
PRODID:Events Booking
BEGIN:VEVENT
UID:69e74b320de94
SUMMARY:Season Opening - Lezlie Harrison
DESCRIPTION:Lezlie Harrison&nbsp\;‐&nbsp\;vocalsDaniel Nösig&nbsp\;‐&n
 bsp\;trumpetSaša Mutić&nbsp\;‐ pianoHrvoje Kral&nbsp\;‐ bassKlemens 
 Marktl&nbsp\;‐ drums
LOCATION:Grieskai 74a\, 8020 Graz
DTSTART:20210917T180000Z
DTSTAMP:20260421T120226Z
ORGANIZER:MAILTO:tickets@tubes-music.at
GEO:47.062323;15.4334
X-APPLE-STRUCTURED-LOCATION;VALUE=URI;X-ADDRESS=Grieskai 74a\, 8020 Graz;X-
 APPLE-RADIUS=72;X-TITLE=Tube's:47.062323;15.4334
END:VEVENT
END:VCALENDAR