BEGIN:VCALENDAR
VERSION:2.0
PRODID:Events Booking
BEGIN:VEVENT
UID:69e74b24cc03e
SUMMARY:Hamlet Fiorilli Latin Jazz Experience
DESCRIPTION:
 
 
 
 Hamlet Fiorilli - pianoWolfram Derschmidt - bassLui
 s André Carneiro de Olivera - drums
 &nbsp\;
 special guests:
 Yanet I
 nfanzón -&nbsp\;violinNicolò Loro Ravenni - sax\, clar\;
 &nbsp\;
 
 
 
 
 
LOCATION:Grieskai 74a\, 8020 Graz
DTSTART:20230526T180000Z
DTSTAMP:20260421T120212Z
ORGANIZER:MAILTO:tickets@tubes-music.at
GEO:47.062323;15.4334
X-APPLE-STRUCTURED-LOCATION;VALUE=URI;X-ADDRESS=Grieskai 74a\, 8020 Graz;X-
 APPLE-RADIUS=72;X-TITLE=Tube's:47.062323;15.4334
END:VEVENT
END:VCALENDAR