BEGIN:VCALENDAR
VERSION:2.0
PRODID:Events Booking
BEGIN:VEVENT
UID:69e74b55aa730
SUMMARY:Joe Haider Sextett
DESCRIPTION:
 
 Daniel Noesig - trumpetHeinz von Herrmann - tenor saxJoha
 nnes Herrlich - trombone
 Joe Haider -&nbsp\;piano / composition &amp\; a
 rrangements&nbsp\;Johannes Strasser - acoustic bassDaniel \"Boxie\" Aebi -
 &nbsp\;drums &amp\; percussion&nbsp\;
 
 
LOCATION:Grieskai 74a\, 8020 Graz
DTSTART:20221126T190000Z
DTSTAMP:20260421T120301Z
ORGANIZER:MAILTO:tickets@tubes-music.at
GEO:47.062323;15.4334
X-APPLE-STRUCTURED-LOCATION;VALUE=URI;X-ADDRESS=Grieskai 74a\, 8020 Graz;X-
 APPLE-RADIUS=72;X-TITLE=Tube's:47.062323;15.4334
END:VEVENT
END:VCALENDAR