BEGIN:VCALENDAR
VERSION:2.0
PRODID:Events Booking
BEGIN:VEVENT
UID:69eaf03d09cd8
SUMMARY:GROOVE - Sokal\, Wressnig\, Deutsch
DESCRIPTION:Harry Sokal - tenor saxRaphael Wressnig - Hammond B-3 organ
 A
 lex Deutsch - drums
 &nbsp\;
 presented by GamsbART
LOCATION:Grieskai 74a\, 8020 Graz
DTSTART:20220114T190000Z
DTSTAMP:20260424T062325Z
ORGANIZER:MAILTO:tickets@tubes-music.at
GEO:47.062323;15.4334
X-APPLE-STRUCTURED-LOCATION;VALUE=URI;X-ADDRESS=Grieskai 74a\, 8020 Graz;X-
 APPLE-RADIUS=72;X-TITLE=Tube's:47.062323;15.4334
END:VEVENT
END:VCALENDAR