BEGIN:VCALENDAR
VERSION:2.0
PRODID:Events Booking
BEGIN:VEVENT
UID:69e8b7d9ca179
SUMMARY:Max Greger jr. Trio - 'swinging christmas'
DESCRIPTION:
 
 
 
 
 Max Greger jr.&nbsp\;- piano&nbsp\;Mini Schulz -
  bass
 Manfred Josel&nbsp\;- drumsBernd Reiter - drums
 
 
 
 
 
LOCATION:Grieskai 74a\, 8020 Graz
DTSTART:20231204T190000Z
DTSTAMP:20260422T135817Z
ORGANIZER:MAILTO:tickets@tubes-music.at
GEO:47.062323;15.4334
X-APPLE-STRUCTURED-LOCATION;VALUE=URI;X-ADDRESS=Grieskai 74a\, 8020 Graz;X-
 APPLE-RADIUS=72;X-TITLE=Tube's:47.062323;15.4334
END:VEVENT
END:VCALENDAR