BEGIN:VCALENDAR
VERSION:2.0
PRODID:Events Booking
BEGIN:VEVENT
UID:69e9510e17fa9
SUMMARY:Eloa Gonzalves Quintet
DESCRIPTION:
 
 
 
 ELOÁ GONÇALVES - piano\, compositions
 LUIS OLIV
 EIRA - drums
 TOBIAS STEINRÜCK - double bass
 MATHILDE VENDRAMIN - cell
 o\, vocals
 JAKOB HELLING * special guest - flugelhorn
 
 
 
 
LOCATION:Grieskai 74a\, 8020 Graz
DTSTART:20230621T180000Z
DTSTAMP:20260423T005158Z
ORGANIZER:MAILTO:tickets@tubes-music.at
GEO:47.062323;15.4334
X-APPLE-STRUCTURED-LOCATION;VALUE=URI;X-ADDRESS=Grieskai 74a\, 8020 Graz;X-
 APPLE-RADIUS=72;X-TITLE=Tube's:47.062323;15.4334
END:VEVENT
END:VCALENDAR