BEGIN:VCALENDAR
VERSION:2.0
PRODID:Events Booking
BEGIN:VEVENT
UID:69eaf016b5a5d
SUMMARY:Eddie Luis & DIE GNADENLOSEN-XL
DESCRIPTION:definit line up to be announced:
 &nbsp\;
 Anna Keller - Klar
 inette\, Saxophon
 Stephanie Schoiswohl - &nbsp\;Klarinette\, Saxophon
 
 Sara Hoffer - &nbsp\;Klarinette\, Saxophon
 Johannes Plechinger - Trompet
 e
 Markus Krofitsch - Trompete
 Matyas Papp - Posaune
 Onat Murat - Kla
 vier
 Tilen Gavranovic- Banjo\, Gitarre
 Matthias Kessler - Kontrabass

  Andi Reisenhofer- Schlagzeug
 Eddie Luis - Violine\, Trompete\, Posaune\
 , Tuba\, Vocals
LOCATION:Grieskai 74a\, 8020 Graz
DTSTART:20220116T160000Z
DTSTAMP:20260424T062246Z
ORGANIZER:MAILTO:tickets@tubes-music.at
GEO:47.062323;15.4334
X-APPLE-STRUCTURED-LOCATION;VALUE=URI;X-ADDRESS=Grieskai 74a\, 8020 Graz;X-
 APPLE-RADIUS=72;X-TITLE=Tube's:47.062323;15.4334
END:VEVENT
END:VCALENDAR