BEGIN:VCALENDAR
VERSION:2.0
PRODID:Events Booking
BEGIN:VEVENT
UID:69ea91be73453
SUMMARY:Origina1Nerd
DESCRIPTION:
 
 Max Glanz - saxophone
 Andreas Erd - guitar
 Thomas Que
 ndler - piano
 Jakob Gönitzer - bass
 Gabor Bedö - drums
 
 
LOCATION:Grieskai 74a\, 8020 Graz
DTSTART:20220514T180000Z
DTSTAMP:20260423T234014Z
ORGANIZER:MAILTO:tickets@tubes-music.at
GEO:47.062323;15.4334
X-APPLE-STRUCTURED-LOCATION;VALUE=URI;X-ADDRESS=Grieskai 74a\, 8020 Graz;X-
 APPLE-RADIUS=72;X-TITLE=Tube's:47.062323;15.4334
END:VEVENT
END:VCALENDAR