BEGIN:VCALENDAR
VERSION:2.0
PRODID:Events Booking
BEGIN:VEVENT
UID:69e9cbff0e9d9
SUMMARY:GIBS-Night - Tanja Filipovic Quartett
DESCRIPTION:
 
 
 
 Tanja Filipovic - vocalLajos Toth - pianoJernej Vin
 dsnurer - bassAndreas Reisenhofer - drums
 
 
 
 
LOCATION:Grieskai 74a\, 8020 Graz
DTSTART:20230117T190000Z
DTSTAMP:20260423T093631Z
ORGANIZER:MAILTO:tickets@tubes-music.at
GEO:47.062323;15.4334
X-APPLE-STRUCTURED-LOCATION;VALUE=URI;X-ADDRESS=Grieskai 74a\, 8020 Graz;X-
 APPLE-RADIUS=72;X-TITLE=Tube's:47.062323;15.4334
END:VEVENT
END:VCALENDAR