BEGIN:VCALENDAR
VERSION:2.0
PRODID:Events Booking
BEGIN:VEVENT
UID:69e99d4a15479
SUMMARY:Wolfgang Puschnig FULSOME X
DESCRIPTION:
 
 
 
 Wolfgang Puschnig - alto sax\, flute Asja Valcic\
 , - cello Jon Sass - tuba Reinhardt Winkler - drums
 &nbsp\;
 presen
 ted by GamsbART
 
 
 
 
LOCATION:Grieskai 74a\, 8020 Graz
DTSTART:20230303T190000Z
DTSTAMP:20260423T061714Z
ORGANIZER:MAILTO:tickets@tubes-music.at
GEO:47.062323;15.4334
X-APPLE-STRUCTURED-LOCATION;VALUE=URI;X-ADDRESS=Grieskai 74a\, 8020 Graz;X-
 APPLE-RADIUS=72;X-TITLE=Tube's:47.062323;15.4334
END:VEVENT
END:VCALENDAR