BEGIN:VCALENDAR
VERSION:2.0
PRODID:Events Booking
BEGIN:VEVENT
UID:69eaa7bd20c34
SUMMARY:Burkhard Frauenlob Trio
DESCRIPTION:
 Burkhard Frauenlob - piano
 Maximilian Ranzinger - bass
 K
 laus Fürstner - drums
 &nbsp\;
 special guest: Richie Winkler&nbsp\;–
  saxophone
 
 
LOCATION:Grieskai 74a\, 8020 Graz
DTSTART:20220506T180000Z
DTSTAMP:20260424T011405Z
ORGANIZER:MAILTO:tickets@tubes-music.at
GEO:47.062323;15.4334
X-APPLE-STRUCTURED-LOCATION;VALUE=URI;X-ADDRESS=Grieskai 74a\, 8020 Graz;X-
 APPLE-RADIUS=72;X-TITLE=Tube's:47.062323;15.4334
END:VEVENT
END:VCALENDAR