BEGIN:VCALENDAR
VERSION:2.0
PRODID:Events Booking
BEGIN:VEVENT
UID:69eaaaf938acd
SUMMARY:Joel Frahm Trio
DESCRIPTION:
 Joel Frahm - saxophone
 Dan Loomis&nbsp\;- bass
 Ernesto C
 ervini - drums
 
LOCATION:Grieskai 74a\, 8020 Graz
DTSTART:20220425T180000Z
DTSTAMP:20260424T012753Z
ORGANIZER:MAILTO:tickets@tubes-music.at
GEO:47.062323;15.4334
X-APPLE-STRUCTURED-LOCATION;VALUE=URI;X-ADDRESS=Grieskai 74a\, 8020 Graz;X-
 APPLE-RADIUS=72;X-TITLE=Tube's:47.062323;15.4334
END:VEVENT
END:VCALENDAR