BEGIN:VCALENDAR
VERSION:2.0
PRODID:Events Booking
BEGIN:VEVENT
UID:69e86fde1155f
SUMMARY:K.Miklin & Following Footsteps
DESCRIPTION:
 
 
 
 
 Gerhard Ornig - trumpet\, flugelhornEmiliano Sam
 paio - guitarHrvoje Kral - bassKarlheinz Miklin jun. - drums
 
 
 
 

  
LOCATION:Grieskai 74a\, 8020 Graz
DTSTART:20240301T190000Z
DTSTAMP:20260422T085110Z
ORGANIZER:MAILTO:tickets@tubes-music.at
GEO:47.062323;15.4334
X-APPLE-STRUCTURED-LOCATION;VALUE=URI;X-ADDRESS=Grieskai 74a\, 8020 Graz;X-
 APPLE-RADIUS=72;X-TITLE=Tube's:47.062323;15.4334
END:VEVENT
END:VCALENDAR