BEGIN:VCALENDAR
VERSION:2.0
PRODID:Events Booking
BEGIN:VEVENT
UID:69ea310f063ab
SUMMARY:Following Footsteps
DESCRIPTION:Karlheinz Miklin jr. - drums&nbsp\; &nbsp\;(A) Gerhard Ornig - 
 trumpet\, flugelhorn.&nbsp\; (A) Emiliano Sampaio - guitar&nbsp\; &nbsp\;(
 BRA) Hrvoje Kral - bass&nbsp\; &nbsp\;(CRO)
 GamsbART presents:
 Followi
 ng Footsteps - ein Projekt von Karlheinz Miklin jr.&nbsp\;
LOCATION:Grieskai 74a\, 8020 Graz
DTSTART:20220923T180000Z
DTSTAMP:20260423T164743Z
ORGANIZER:MAILTO:tickets@tubes-music.at
GEO:47.062323;15.4334
X-APPLE-STRUCTURED-LOCATION;VALUE=URI;X-ADDRESS=Grieskai 74a\, 8020 Graz;X-
 APPLE-RADIUS=72;X-TITLE=Tube's:47.062323;15.4334
END:VEVENT
END:VCALENDAR