BEGIN:VCALENDAR
VERSION:2.0
PRODID:Events Booking
BEGIN:VEVENT
UID:69e75036ba73c
SUMMARY:Following Footsteps
DESCRIPTION:
 
 
 
 
 Karlheinz Miklin jr.&nbsp\;- drums\, comp\;Gerha
 rd Ornig&nbsp\;- trumpet\, flugelhorn\;Emiliano Sampaio - guitarHrvoje Kra
 lj - bass
 
 
 
 
 
LOCATION:Grieskai 74a\, 8020 Graz
DTSTART:20260131T190000Z
DTSTAMP:20260421T122350Z
ORGANIZER:MAILTO:tickets@tubes-music.at
GEO:47.062323;15.4334
X-APPLE-STRUCTURED-LOCATION;VALUE=URI;X-ADDRESS=Grieskai 74a\, 8020 Graz;X-
 APPLE-RADIUS=72;X-TITLE=Tube's:47.062323;15.4334
END:VEVENT
END:VCALENDAR