BEGIN:VCALENDAR
VERSION:2.0
PRODID:Events Booking
BEGIN:VEVENT
UID:69e6c0bb35f15
SUMMARY:Fiona Fergusson & John Di Martino Trio
DESCRIPTION:
 
 
 
 
 Fiona Fergusson - vocalJohn Di Martino - pianoJo
 ris Teepe - bassKlemens Marktl - drums
 
 
 
 
 
LOCATION:Grieskai 74a\, 8020 Graz
DTSTART:20260530T180000Z
DTSTAMP:20260421T021139Z
ORGANIZER:MAILTO:tickets@tubes-music.at
GEO:47.062323;15.4334
X-APPLE-STRUCTURED-LOCATION;VALUE=URI;X-ADDRESS=Grieskai 74a\, 8020 Graz;X-
 APPLE-RADIUS=72;X-TITLE=Tube's:47.062323;15.4334
END:VEVENT
END:VCALENDAR