BEGIN:VCALENDAR
VERSION:2.0
PRODID:Events Booking
BEGIN:VEVENT
UID:69e8590f384f7
SUMMARY:Riccardo Fassi & Luis Bonilla
DESCRIPTION:
 
 
 
 
 
 
 Riccardo Fassi - pianoLuis Bonilla - tromb
 oneGoran Rukavina - bassKarlheinz Miklin jun. - drums
 
 
 
 
 
 
 
LOCATION:Grieskai 74a\, 8020 Graz
DTSTART:20240418T180000Z
DTSTAMP:20260422T071351Z
ORGANIZER:MAILTO:tickets@tubes-music.at
GEO:47.062323;15.4334
X-APPLE-STRUCTURED-LOCATION;VALUE=URI;X-ADDRESS=Grieskai 74a\, 8020 Graz;X-
 APPLE-RADIUS=72;X-TITLE=Tube's:47.062323;15.4334
END:VEVENT
END:VCALENDAR