BEGIN:VCALENDAR
VERSION:2.0
PRODID:Events Booking
BEGIN:VEVENT
UID:69eb1a2320d4e
SUMMARY:So What - Sigi Faschingbauer
DESCRIPTION:Lesung und Jam Session
LOCATION:Grieskai 74a\, 8020 Graz
DTSTART:20211106T190000Z
DTSTAMP:20260424T092211Z
ORGANIZER:MAILTO:tickets@tubes-music.at
GEO:47.062323;15.4334
X-APPLE-STRUCTURED-LOCATION;VALUE=URI;X-ADDRESS=Grieskai 74a\, 8020 Graz;X-
 APPLE-RADIUS=72;X-TITLE=Tube's:47.062323;15.4334
END:VEVENT
END:VCALENDAR