BEGIN:VCALENDAR
VERSION:2.0
PRODID:Events Booking
BEGIN:VEVENT
UID:69e7c88332c35
SUMMARY:Fabian Supancic Quartett
DESCRIPTION:
 
 
 
 
 
 
 Fabian Supancic - organChristopher Pawluk 
 – guitarHerwig Gradischnig - saxHoward Curtis&nbsp\;- drums
 
 
 
 
 
 
 
 
LOCATION:Grieskai 74a\, 8020 Graz
DTSTART:20241016T180000Z
DTSTAMP:20260421T205707Z
ORGANIZER:MAILTO:tickets@tubes-music.at
GEO:47.062323;15.4334
X-APPLE-STRUCTURED-LOCATION;VALUE=URI;X-ADDRESS=Grieskai 74a\, 8020 Graz;X-
 APPLE-RADIUS=72;X-TITLE=Tube's:47.062323;15.4334
END:VEVENT
END:VCALENDAR