BEGIN:VCALENDAR
VERSION:2.0
PRODID:Events Booking
BEGIN:VEVENT
UID:69ea151e146d8
SUMMARY:Fabian Supancic - organ trio
DESCRIPTION:Fabian Supancic - organ\, compositionChristopher Pawluk - guita
 rHoward Curtis - drums
 Guest Artist: Florian Supancic - tenor sax
LOCATION:Grieskai 74a\, 8020 Graz
DTSTART:20221014T180000Z
DTSTAMP:20260423T144830Z
ORGANIZER:MAILTO:tickets@tubes-music.at
GEO:47.062323;15.4334
X-APPLE-STRUCTURED-LOCATION;VALUE=URI;X-ADDRESS=Grieskai 74a\, 8020 Graz;X-
 APPLE-RADIUS=72;X-TITLE=Tube's:47.062323;15.4334
END:VEVENT
END:VCALENDAR