BEGIN:VCALENDAR
VERSION:2.0
PRODID:Events Booking
BEGIN:VEVENT
UID:69e7cac1e1da7
SUMMARY:Robin Eubanks quartet
DESCRIPTION:
 
 
 
 
 
 
 Robin Eubanks - trombone\,&nbsp\;Anil Bilg
 en – pianoHrvoje Kral - bassGábor Bedö&nbsp\;- drums
 
 
 
 
 
 
 
 
LOCATION:Grieskai 74a\, 8020 Graz
DTSTART:20241012T180000Z
DTSTAMP:20260421T210641Z
ORGANIZER:MAILTO:tickets@tubes-music.at
GEO:47.062323;15.4334
X-APPLE-STRUCTURED-LOCATION;VALUE=URI;X-ADDRESS=Grieskai 74a\, 8020 Graz;X-
 APPLE-RADIUS=72;X-TITLE=Tube's:47.062323;15.4334
END:VEVENT
END:VCALENDAR