BEGIN:VCALENDAR
VERSION:2.0
PRODID:Events Booking
BEGIN:VEVENT
UID:69ea8d8c0293b
SUMMARY:Eddie Luis & Gnadenlosen XL
DESCRIPTION:Anna Keller&nbsp\;- reeds&nbsp\;Stephanie Schoiswohl - reedsSar
 a Hoffer - reedsJakob Helling - trumpetMarkus Krofitsch - trumpetMatyas Pa
 pp&nbsp\;- trombone&nbsp\;Blaz Pahor - pianoTilen Gavranovic - guitarJerne
 j Vindsnurer - bassLukas Kleemair - drums
 &amp\;
 Eddie Luis - vocal\, 
 tube\, trombone\, trumpet\, violin\, moderation\, ...
LOCATION:Grieskai 74a\, 8020 Graz
DTSTART:20220515T150000Z
DTSTAMP:20260423T232220Z
ORGANIZER:MAILTO:tickets@tubes-music.at
GEO:47.062323;15.4334
X-APPLE-STRUCTURED-LOCATION;VALUE=URI;X-ADDRESS=Grieskai 74a\, 8020 Graz;X-
 APPLE-RADIUS=72;X-TITLE=Tube's:47.062323;15.4334
END:VEVENT
END:VCALENDAR