BEGIN:VCALENDAR
VERSION:2.0
PRODID:Events Booking
BEGIN:VEVENT
UID:69e82d5e62359
SUMMARY:Jim Rotondi Electric Band
DESCRIPTION:
 
 
 
 
 
 
 Jim Rotondi – Trumpet\, Flugelhorn\, Syn
 thesizerAnil Bilgen – Electric PianoTilen Gavranovic – GuitarKajetan K
 amenjasevic – Electric BassGregor Špener – Drums
 
 
 
 
 
 
 
LOCATION:Grieskai 74a\, 8020 Graz
DTSTART:20240605T180000Z
DTSTAMP:20260422T040726Z
ORGANIZER:MAILTO:tickets@tubes-music.at
GEO:47.062323;15.4334
X-APPLE-STRUCTURED-LOCATION;VALUE=URI;X-ADDRESS=Grieskai 74a\, 8020 Graz;X-
 APPLE-RADIUS=72;X-TITLE=Tube's:47.062323;15.4334
END:VEVENT
END:VCALENDAR