BEGIN:VCALENDAR
VERSION:2.0
PRODID:Events Booking
BEGIN:VEVENT
UID:69ea92aca081f
SUMMARY:Gerald Egger - Love&Trust
DESCRIPTION:Gerald Egger - guitLove &amp\; Trust
 Konzert &amp\; CD Präse
 ntation
LOCATION:Grieskai 74a\, 8020 Graz
DTSTART:20220522T150000Z
DTSTAMP:20260423T234412Z
ORGANIZER:MAILTO:tickets@tubes-music.at
GEO:47.062323;15.4334
X-APPLE-STRUCTURED-LOCATION;VALUE=URI;X-ADDRESS=Grieskai 74a\, 8020 Graz;X-
 APPLE-RADIUS=72;X-TITLE=Tube's:47.062323;15.4334
END:VEVENT
END:VCALENDAR