BEGIN:VCALENDAR
VERSION:2.0
PRODID:Events Booking
BEGIN:VEVENT
UID:69e95123f2544
SUMMARY:Eddie Luis Salonorchester
DESCRIPTION:
 
 
 
 Eddie Luis&nbsp\;- voc\, violin\, trombone\, trumpe
 t\, tuba &amp\; MC
 
 
 
 
 
 
 &nbsp\;
 
 
 
 
 
 
 
 
 
 
 
LOCATION:Grieskai 74a\, 8020 Graz
DTSTART:20230611T160000Z
DTSTAMP:20260423T005219Z
ORGANIZER:MAILTO:tickets@tubes-music.at
GEO:47.062323;15.4334
X-APPLE-STRUCTURED-LOCATION;VALUE=URI;X-ADDRESS=Grieskai 74a\, 8020 Graz;X-
 APPLE-RADIUS=72;X-TITLE=Tube's:47.062323;15.4334
END:VEVENT
END:VCALENDAR