BEGIN:VCALENDAR
VERSION:2.0
PRODID:Events Booking
BEGIN:VEVENT
UID:69e9e7eaadace
SUMMARY:Eddie Luis Salonorchester
DESCRIPTION:Eddie Luis&nbsp\;- voc\, violin\, trombone\, trumpet\, tuba &am
 p\; MC
 
 
 
 
 
 
 &nbsp\;
 
 
 
 
 
 
LOCATION:Grieskai 74a\, 8020 Graz
DTSTART:20221211T160000Z
DTSTAMP:20260423T113538Z
ORGANIZER:MAILTO:tickets@tubes-music.at
GEO:47.062323;15.4334
X-APPLE-STRUCTURED-LOCATION;VALUE=URI;X-ADDRESS=Grieskai 74a\, 8020 Graz;X-
 APPLE-RADIUS=72;X-TITLE=Tube's:47.062323;15.4334
END:VEVENT
END:VCALENDAR