BEGIN:VCALENDAR
VERSION:2.0
PRODID:Events Booking
BEGIN:VEVENT
UID:69e9b3bd5980a
SUMMARY:DUOS: Eva Plankton & Peter Taucher
DESCRIPTION:
 
 
 
 GamsbART präsentiert:
 &nbsp\;
 Eva Plankton&nbs
 p\;- vocalPeter Taucher&nbsp\;- guitar / loops
 
 
 
 
LOCATION:Grieskai 74a\, 8020 Graz
DTSTART:20230203T190000Z
DTSTAMP:20260423T075301Z
ORGANIZER:MAILTO:tickets@tubes-music.at
GEO:47.062323;15.4334
X-APPLE-STRUCTURED-LOCATION;VALUE=URI;X-ADDRESS=Grieskai 74a\, 8020 Graz;X-
 APPLE-RADIUS=72;X-TITLE=Tube's:47.062323;15.4334
END:VEVENT
END:VCALENDAR