BEGIN:VCALENDAR
VERSION:2.0
PRODID:Events Booking
BEGIN:VEVENT
UID:69e9b4a500580
SUMMARY:DUOS: Georg Laube & Milos Milojevic
DESCRIPTION:
 
 
 
 GamsbART präsentiert:
 &nbsp\;
 Georg Laube&nbsp
 \;- guitar\, vocalMilos Milojevic&nbsp\;- clarinet
 
 
 
 
LOCATION:Grieskai 74a\, 8020 Graz
DTSTART:20230202T190000Z
DTSTAMP:20260423T075653Z
ORGANIZER:MAILTO:tickets@tubes-music.at
GEO:47.062323;15.4334
X-APPLE-STRUCTURED-LOCATION;VALUE=URI;X-ADDRESS=Grieskai 74a\, 8020 Graz;X-
 APPLE-RADIUS=72;X-TITLE=Tube's:47.062323;15.4334
END:VEVENT
END:VCALENDAR