BEGIN:VCALENDAR
VERSION:2.0
PRODID:Events Booking
BEGIN:VEVENT
UID:69e9e48c1eaec
SUMMARY:Patrick Dunst - On The Wire
DESCRIPTION:
 
 
 
 Patrick Dunst - Komposition\, Holzblasinstrumente

  
 Viola Hammer - Klavier
 Lukas Raumberger - Bass
 Grilli Pollheimer -
  Schlagwerk
 
 Igmar Jenner - Violine
 Simon Schellnegger - Viola
 Sig
 rid Narowetz - Cello
 
 
 
 
 
LOCATION:Grieskai 74a\, 8020 Graz
DTSTART:20221222T190000Z
DTSTAMP:20260423T112116Z
ORGANIZER:MAILTO:tickets@tubes-music.at
GEO:47.062323;15.4334
X-APPLE-STRUCTURED-LOCATION;VALUE=URI;X-ADDRESS=Grieskai 74a\, 8020 Graz;X-
 APPLE-RADIUS=72;X-TITLE=Tube's:47.062323;15.4334
END:VEVENT
END:VCALENDAR