BEGIN:VCALENDAR
VERSION:2.0
PRODID:Events Booking
BEGIN:VEVENT
UID:69e9e4e3a8c42
SUMMARY:Patrick Dunst - Personale
DESCRIPTION:
 
 
 Viola Hammer: Piano&nbsp\;
 Patrick Dunst: Reeds / El
 ectronics&nbsp\;
 -
 
 
 
 Fiston Mwanza Mujila: Spoken Poetry&nbsp\;
 
 Viola Hammer: Piano / Composition
 Patrick Dunst: Reeds / Electronics 
 / Composition
 
 
LOCATION:Grieskai 74a\, 8020 Graz
DTSTART:20221221T190000Z
DTSTAMP:20260423T112243Z
ORGANIZER:MAILTO:tickets@tubes-music.at
GEO:47.062323;15.4334
X-APPLE-STRUCTURED-LOCATION;VALUE=URI;X-ADDRESS=Grieskai 74a\, 8020 Graz;X-
 APPLE-RADIUS=72;X-TITLE=Tube's:47.062323;15.4334
END:VEVENT
END:VCALENDAR