BEGIN:VCALENDAR
VERSION:2.0
PRODID:Events Booking
BEGIN:VEVENT
UID:69e74c4fce86c
SUMMARY:Amadis Dunkel / Hyuna Park Quartet
DESCRIPTION:
 
 
 
 
 Amadis Dunkel – tromboneHyuna Park – pianoKa
 jetan Kamenjasevic - bassKlaus Fürstner&nbsp\;– drums
 
 
 
 
 
LOCATION:Grieskai 74a\, 8020 Graz
DTSTART:20250319T190000Z
DTSTAMP:20260421T120711Z
ORGANIZER:MAILTO:tickets@tubes-music.at
GEO:47.062323;15.4334
X-APPLE-STRUCTURED-LOCATION;VALUE=URI;X-ADDRESS=Grieskai 74a\, 8020 Graz;X-
 APPLE-RADIUS=72;X-TITLE=Tube's:47.062323;15.4334
END:VEVENT
END:VCALENDAR