BEGIN:VCALENDAR
VERSION:2.0
PRODID:Events Booking
BEGIN:VEVENT
UID:69eaf0c1570af
SUMMARY:Patrick Dunst - Urban Dialects
DESCRIPTION:
 Patrick Dunst - Reeds &amp\; KompositionMatthias Loibner - D
 rehleierChristian Bakanic - Akkordeon&nbsp\;Beate Wiesinger - BassGrilli P
 ollheimer - Percussion
 presented by GamsbART
 
LOCATION:Grieskai 74a\, 8020 Graz
DTSTART:20220122T190000Z
DTSTAMP:20260424T062537Z
ORGANIZER:MAILTO:tickets@tubes-music.at
GEO:47.062323;15.4334
X-APPLE-STRUCTURED-LOCATION;VALUE=URI;X-ADDRESS=Grieskai 74a\, 8020 Graz;X-
 APPLE-RADIUS=72;X-TITLE=Tube's:47.062323;15.4334
END:VEVENT
END:VCALENDAR