BEGIN:VCALENDAR
VERSION:2.0
PRODID:Events Booking
BEGIN:VEVENT
UID:69e8b937e617f
SUMMARY:Dena DeRose - Trio
DESCRIPTION:
 
 
 
 
 Dena DeRose&nbsp\;- piano\, voc&nbsp\;Hrvoje Kra
 lj&nbsp\;- bassChris Smith&nbsp\;- drums
 
 
 
 
 
LOCATION:Grieskai 74a\, 8020 Graz
DTSTART:20231209T190000Z
DTSTAMP:20260422T140407Z
ORGANIZER:MAILTO:tickets@tubes-music.at
GEO:47.062323;15.4334
X-APPLE-STRUCTURED-LOCATION;VALUE=URI;X-ADDRESS=Grieskai 74a\, 8020 Graz;X-
 APPLE-RADIUS=72;X-TITLE=Tube's:47.062323;15.4334
END:VEVENT
END:VCALENDAR