BEGIN:VCALENDAR
VERSION:2.0
PRODID:Events Booking
BEGIN:VEVENT
UID:69e79503853f3
SUMMARY:Dena DeRose & friends
DESCRIPTION:
 
 
 
 
 
 
 Dena DeRose&nbsp\;- piano\, vocalHrvoje Kr
 al - bassChris Smith - drums
 featuring
 Conrad Herwig - trombone
 
 
 
 
 
 
 
 
LOCATION:Grieskai 74a\, 8020 Graz
DTSTART:20241212T190000Z
DTSTAMP:20260421T171723Z
ORGANIZER:MAILTO:tickets@tubes-music.at
GEO:47.062323;15.4334
X-APPLE-STRUCTURED-LOCATION;VALUE=URI;X-ADDRESS=Grieskai 74a\, 8020 Graz;X-
 APPLE-RADIUS=72;X-TITLE=Tube's:47.062323;15.4334
END:VEVENT
END:VCALENDAR