BEGIN:VCALENDAR
VERSION:2.0
PRODID:Events Booking
BEGIN:VEVENT
UID:69ea2b68474d0
SUMMARY:Wayne Darling Trio
DESCRIPTION:Wayne Darling&nbsp\;- bass\, waterphone\; Olaf Polziehn - piano
 Howard Curtis - drums\, percussion
LOCATION:Grieskai 74a\, 8020 Graz
DTSTART:20220929T180000Z
DTSTAMP:20260423T162336Z
ORGANIZER:MAILTO:tickets@tubes-music.at
GEO:47.062323;15.4334
X-APPLE-STRUCTURED-LOCATION;VALUE=URI;X-ADDRESS=Grieskai 74a\, 8020 Graz;X-
 APPLE-RADIUS=72;X-TITLE=Tube's:47.062323;15.4334
END:VEVENT
END:VCALENDAR