BEGIN:VCALENDAR
VERSION:2.0
PRODID:Events Booking
BEGIN:VEVENT
UID:69e82d4987c1f
SUMMARY:Howard Curtis \"Word(s) Up\"
DESCRIPTION:
 
 
 
 
 
 
 Howard Curtis - drumsEd Neumeister – tro
 mboneJohannes Enders - saxophoneAndrea Massaria&nbsp\;- guitarMichael Form
 anek&nbsp\;- bass
 
 
 
 
 
 
 
LOCATION:Grieskai 74a\, 8020 Graz
DTSTART:20240628T180000Z
DTSTAMP:20260422T040705Z
ORGANIZER:MAILTO:tickets@tubes-music.at
GEO:47.062323;15.4334
X-APPLE-STRUCTURED-LOCATION;VALUE=URI;X-ADDRESS=Grieskai 74a\, 8020 Graz;X-
 APPLE-RADIUS=72;X-TITLE=Tube's:47.062323;15.4334
END:VEVENT
END:VCALENDAR