BEGIN:VCALENDAR
VERSION:2.0
PRODID:Events Booking
BEGIN:VEVENT
UID:69e73fe4b06b9
SUMMARY:3x3 - Marko Črnčec - Piano Trio
DESCRIPTION:Marko Črnčec&nbsp\;‐&nbsp\;pianoRobert Jukić&nbsp\;‐&nbs
 p\;bassKristijan Krajnčan&nbsp\;‐ drums
LOCATION:Grieskai 74a\, 8020 Graz
DTSTART:20211030T180000Z
DTSTAMP:20260421T111412Z
ORGANIZER:MAILTO:tickets@tubes-music.at
GEO:47.062323;15.4334
X-APPLE-STRUCTURED-LOCATION;VALUE=URI;X-ADDRESS=Grieskai 74a\, 8020 Graz;X-
 APPLE-RADIUS=72;X-TITLE=Tube's:47.062323;15.4334
END:VEVENT
END:VCALENDAR