BEGIN:VCALENDAR
VERSION:2.0
PRODID:Events Booking
BEGIN:VEVENT
UID:69e9e6254e3c0
SUMMARY:Tales Of Collapse
DESCRIPTION:Markus Neuwirth - piano\, comp\; Hrvoje Kralj - bass Jan Krizan
 ic-Nessmann&nbsp\;- drums  Israel Gutierrez - violin Albin Krieger - violi
 n Álvaro Vallejo Larre - viola Sophie Elisabeth Stocker - cello
LOCATION:Grieskai 74a\, 8020 Graz
DTSTART:20221214T190000Z
DTSTAMP:20260423T112805Z
ORGANIZER:MAILTO:tickets@tubes-music.at
GEO:47.062323;15.4334
X-APPLE-STRUCTURED-LOCATION;VALUE=URI;X-ADDRESS=Grieskai 74a\, 8020 Graz;X-
 APPLE-RADIUS=72;X-TITLE=Tube's:47.062323;15.4334
END:VEVENT
END:VCALENDAR