BEGIN:VCALENDAR
VERSION:2.0
PRODID:Events Booking
BEGIN:VEVENT
UID:69e9fdf4bf911
SUMMARY:Renato Chicco Quartett
DESCRIPTION:Renato Chicco - pianoDanny Ziemann - bassChris Smith - drums
 
 featuring:&nbsp\;Piero Odorici - saxophone
LOCATION:Grieskai 74a\, 8020 Graz
DTSTART:20221104T190000Z
DTSTAMP:20260423T130940Z
ORGANIZER:MAILTO:tickets@tubes-music.at
GEO:47.062323;15.4334
X-APPLE-STRUCTURED-LOCATION;VALUE=URI;X-ADDRESS=Grieskai 74a\, 8020 Graz;X-
 APPLE-RADIUS=72;X-TITLE=Tube's:47.062323;15.4334
END:VEVENT
END:VCALENDAR