BEGIN:VCALENDAR
VERSION:2.0
PRODID:Events Booking
BEGIN:VEVENT
UID:69e9b3e25a9c4
SUMMARY:Champian Fulton Trio
DESCRIPTION:
 
 
 
 Champian Fulton&nbsp\;- voice / pianoLorenzo Conte&
 nbsp\;- bass
 Joris Dudli&nbsp\;- drums
 
 
 
 
LOCATION:Grieskai 74a\, 8020 Graz
DTSTART:20230228T190000Z
DTSTAMP:20260423T075338Z
ORGANIZER:MAILTO:tickets@tubes-music.at
GEO:47.062323;15.4334
X-APPLE-STRUCTURED-LOCATION;VALUE=URI;X-ADDRESS=Grieskai 74a\, 8020 Graz;X-
 APPLE-RADIUS=72;X-TITLE=Tube's:47.062323;15.4334
END:VEVENT
END:VCALENDAR