BEGIN:VCALENDAR
VERSION:2.0
PRODID:Events Booking
BEGIN:VEVENT
UID:69e8864f17b2c
SUMMARY:Julie Campiche Quartet
DESCRIPTION:
 
 
 
 
 Leo Fumagalli -&nbsp\;saxophone &amp\; FX Julie 
 Campiche -&nbsp\;harp &amp\; FX Manu Hagmann -&nbsp\;double bass &amp\; FX
  Clemens Kuratle -&nbsp\;drums
 presented by GamsbART
 
 
 
 
 
LOCATION:Grieskai 74a\, 8020 Graz
DTSTART:20240201T190000Z
DTSTAMP:20260422T102655Z
ORGANIZER:MAILTO:tickets@tubes-music.at
GEO:47.062323;15.4334
X-APPLE-STRUCTURED-LOCATION;VALUE=URI;X-ADDRESS=Grieskai 74a\, 8020 Graz;X-
 APPLE-RADIUS=72;X-TITLE=Tube's:47.062323;15.4334
END:VEVENT
END:VCALENDAR