BEGIN:VCALENDAR
VERSION:2.0
PRODID:Events Booking
BEGIN:VEVENT
UID:69e86fe430ac2
SUMMARY:2. Brazilian Jazz Nights
DESCRIPTION:
 
 
 
 
 
 presented by GamsbART
 Emiliano Sampaio - gu
 itar/trombone&nbsp\; Rubinho Antunes - trumpet Joander Cruz - alto sax/ fl
 ute Henrique Gomide - piano Rui Barossi - bass Luis Oliveira - drums Chico
  Santana - percussion
 
 
 
 
 
 
LOCATION:Grieskai 74a\, 8020 Graz
DTSTART:20240314T190000Z
DTSTAMP:20260422T085116Z
ORGANIZER:MAILTO:tickets@tubes-music.at
GEO:47.062323;15.4334
X-APPLE-STRUCTURED-LOCATION;VALUE=URI;X-ADDRESS=Grieskai 74a\, 8020 Graz;X-
 APPLE-RADIUS=72;X-TITLE=Tube's:47.062323;15.4334
END:VEVENT
END:VCALENDAR