BEGIN:VCALENDAR
VERSION:2.0
PRODID:Events Booking
BEGIN:VEVENT
UID:69e9fe6aa7269
SUMMARY:Luis Bonilla / Sigi Feigl Quintett
DESCRIPTION:Luis Bonilla - tromboneSigi Feigl - reedsSaša Mutić&nbsp\;- p
 ianoKajetan Kamenjasević&nbsp\;- bassKarlheinz Miklin - drums
LOCATION:Grieskai 74a\, 8020 Graz
DTSTART:20221117T190000Z
DTSTAMP:20260423T131138Z
ORGANIZER:MAILTO:tickets@tubes-music.at
GEO:47.062323;15.4334
X-APPLE-STRUCTURED-LOCATION;VALUE=URI;X-ADDRESS=Grieskai 74a\, 8020 Graz;X-
 APPLE-RADIUS=72;X-TITLE=Tube's:47.062323;15.4334
END:VEVENT
END:VCALENDAR