BEGIN:VCALENDAR
VERSION:2.0
PRODID:Events Booking
BEGIN:VEVENT
UID:69e950639438e
SUMMARY:Bonilla Feigl 5tet goes latin
DESCRIPTION:
 
 
 
 Luis Bonilla - trombone
 Sigi Feigl - reeds
 Sasa
  Mutic - piano
 Kajetan Kamenjasevic - bass
 Karlheinz Miklin - drums
 
 &nbsp\;
 special guest: Victor Fuentes - percussions
 
 
 
 
LOCATION:Grieskai 74a\, 8020 Graz
DTSTART:20230615T180000Z
DTSTAMP:20260423T004907Z
ORGANIZER:MAILTO:tickets@tubes-music.at
GEO:47.062323;15.4334
X-APPLE-STRUCTURED-LOCATION;VALUE=URI;X-ADDRESS=Grieskai 74a\, 8020 Graz;X-
 APPLE-RADIUS=72;X-TITLE=Tube's:47.062323;15.4334
END:VEVENT
END:VCALENDAR