BEGIN:VCALENDAR
VERSION:2.0
PRODID:Events Booking
BEGIN:VEVENT
UID:69e74e1dafbf3
SUMMARY:\"Sir\" Oliver Mally's - Blue Sunday Jam
DESCRIPTION:
 
 
 
 
 
 
 
 
 
 \"Sir\" Oliver Mallyand very spec
 ial guests:Raphael Wressnig - organPeter Lenz - drums
 
 
 
 &nbsp\;

  
 
 
 
 
 
 
LOCATION:Grieskai 74a\, 8020 Graz
DTSTART:20250302T160000Z
DTSTAMP:20260421T121453Z
ORGANIZER:MAILTO:tickets@tubes-music.at
GEO:47.062323;15.4334
X-APPLE-STRUCTURED-LOCATION;VALUE=URI;X-ADDRESS=Grieskai 74a\, 8020 Graz;X-
 APPLE-RADIUS=72;X-TITLE=Tube's:47.062323;15.4334
END:VEVENT
END:VCALENDAR