BEGIN:VCALENDAR
VERSION:2.0
PRODID:Events Booking
BEGIN:VEVENT
UID:69e794debff37
SUMMARY:\"Sir\" Oliver Mally's - Blue Sunday Jam
DESCRIPTION:
 
 
 
 
 
 
 
 
 
 \"Sir\" Oliver Mallyand very spec
 ial guests
 
 
 
 &nbsp\;
 
 
 
 
 
 
 
LOCATION:Grieskai 74a\, 8020 Graz
DTSTART:20241201T160000Z
DTSTAMP:20260421T171646Z
ORGANIZER:MAILTO:tickets@tubes-music.at
GEO:47.062323;15.4334
X-APPLE-STRUCTURED-LOCATION;VALUE=URI;X-ADDRESS=Grieskai 74a\, 8020 Graz;X-
 APPLE-RADIUS=72;X-TITLE=Tube's:47.062323;15.4334
END:VEVENT
END:VCALENDAR