BEGIN:VCALENDAR
VERSION:2.0
PRODID:Events Booking
BEGIN:VEVENT
UID:69eac0227110a
SUMMARY:Anil Bilgen & Pippo Corvino
DESCRIPTION:Bilgen &amp\; Corvino Duo
 Anıl Bilgen&nbsp\;- pianoPippo Cor
 vino&nbsp\;- guitar
 presented by GamsbART
LOCATION:Grieskai 74a\, 8020 Graz
DTSTART:20220318T190000Z
DTSTAMP:20260424T025810Z
ORGANIZER:MAILTO:tickets@tubes-music.at
GEO:47.062323;15.4334
X-APPLE-STRUCTURED-LOCATION;VALUE=URI;X-ADDRESS=Grieskai 74a\, 8020 Graz;X-
 APPLE-RADIUS=72;X-TITLE=Tube's:47.062323;15.4334
END:VEVENT
END:VCALENDAR